BEGIN:VCALENDAR
VERSION:2.0
PRODID:-//Klimaschutz | Stadt Bad Honnef - ECPv6.11.2//NONSGML v1.0//EN
CALSCALE:GREGORIAN
METHOD:PUBLISH
X-ORIGINAL-URL:https://klimaschutz.meinbadhonnef.de
X-WR-CALDESC:Veranstaltungen für Klimaschutz | Stadt Bad Honnef
REFRESH-INTERVAL;VALUE=DURATION:PT1H
X-Robots-Tag:noindex
X-PUBLISHED-TTL:PT1H
BEGIN:VTIMEZONE
TZID:Europe/Berlin
BEGIN:DAYLIGHT
TZOFFSETFROM:+0100
TZOFFSETTO:+0200
TZNAME:CEST
DTSTART:20260329T010000
END:DAYLIGHT
BEGIN:STANDARD
TZOFFSETFROM:+0200
TZOFFSETTO:+0100
TZNAME:CET
DTSTART:20261025T010000
END:STANDARD
END:VTIMEZONE
BEGIN:VEVENT
DTSTART;TZID=Europe/Berlin:20260331T180000
DTEND;TZID=Europe/Berlin:20260331T193000
DTSTAMP:20260421T033533
CREATED:20260304T112135Z
LAST-MODIFIED:20260304T112135Z
UID:5398-1774980000-1774985400@klimaschutz.meinbadhonnef.de
SUMMARY:Online-Kurs: Elektroauto laden – unterwegs\, zuhause\, mit Sonnenstrom?
DESCRIPTION:Die VHS Rhein-Sieg plant in Zusammenarbeit mit der Energieberatung der Verbraucherzentrale NRW im Rhein-Sieg-Kreis und der Energieagentur Rhein-Sieg eine Veranstaltung zu dem E-Autos. \nDer Energieberater der Verbraucherzentrale Thorsten Sonnet gibt in seinem Vortrag einen Überblick über die wichtigsten Grundlagen zur Elektromobilität – vom passenden Ladepunkt bis zum Zusammenspiel mit der eigenen Stromerzeugung. \nWeitere Informationen und den Link zur kostenlosen Anmeldung finden Sie hier…
URL:https://klimaschutz.meinbadhonnef.de/aktuelles-veranstaltung/online-kurs-elektroauto-laden-unterwegs-zuhause-mit-sonnenstrom/
LOCATION:online
CATEGORIES:Klimaschutz,Online-Veranstaltung
ATTACH;FMTTYPE=image/jpeg:https://klimaschutz.meinbadhonnef.de/wp-content/uploads/2023/02/Lebensfreude_Verbuergt_Wappenlogo.jpg
END:VEVENT
END:VCALENDAR